BEGIN:VCALENDAR
VERSION:2.0
PRODID:icalendar-ruby
CALSCALE:GREGORIAN
METHOD:PUBLISH
BEGIN:VEVENT
DTSTAMP:20260423T203636Z
UID:6-1132187@maplegrovechurch.net
DTSTART:20260920T130000Z
DTEND:20260920T140000Z
CLASS:PUBLIC
CREATED:20260423T163539
DESCRIPTION:Sunday School
LAST-MODIFIED:20260423T163539
LOCATION:
SUMMARY:Sunday School
URL;VALUE=URI:https://www.maplegrovechurch.net/events/sunday-school/2026-09
 -20
END:VEVENT
END:VCALENDAR
