BEGIN:VCALENDAR
VERSION:2.0
PRODID:icalendar-ruby
CALSCALE:GREGORIAN
METHOD:PUBLISH
BEGIN:VEVENT
DTSTAMP:20260423T221042Z
UID:6-1132188@maplegrovechurch.net
DTSTART:20260927T130000Z
DTEND:20260927T140000Z
CLASS:PUBLIC
CREATED:20260423T163539
DESCRIPTION:Sunday School
LAST-MODIFIED:20260423T163539
LOCATION:
SUMMARY:Sunday School
URL;VALUE=URI:https://www.maplegrovechurch.net/events/sunday-school/2026-09
 -27
END:VEVENT
END:VCALENDAR
