BEGIN:VCALENDAR
VERSION:2.0
PRODID:icalendar-ruby
CALSCALE:GREGORIAN
METHOD:PUBLISH
BEGIN:VEVENT
DTSTAMP:20260424T001240Z
UID:6-1132709@maplegrovechurch.net
DTSTART:20261004T130000Z
DTEND:20261004T140000Z
CLASS:PUBLIC
CREATED:20260423T192923
DESCRIPTION:Sunday School
LAST-MODIFIED:20260423T192923
LOCATION:
SUMMARY:Sunday School
URL;VALUE=URI:https://www.maplegrovechurch.net/events/sunday-school/2026-10
 -04
END:VEVENT
END:VCALENDAR
