BEGIN:VCALENDAR
VERSION:2.0
PRODID:icalendar-ruby
CALSCALE:GREGORIAN
METHOD:PUBLISH
BEGIN:VEVENT
DTSTAMP:20260424T044130Z
UID:6-1133231@maplegrovechurch.net
DTSTART:20261018T130000Z
DTEND:20261018T140000Z
CLASS:PUBLIC
CREATED:20260423T222320
DESCRIPTION:Sunday School
LAST-MODIFIED:20260423T222320
LOCATION:
SUMMARY:Sunday School
URL;VALUE=URI:https://www.maplegrovechurch.net/events/sunday-school/2026-10
 -18
END:VEVENT
END:VCALENDAR
